Workbook
Name S_Site_Card: 'Table 7 Stream Class'!$B$2:$F$87

Sheet Table 3 Features
A1: Site | B1: ILP/WSC | C1: Reach | D1: Feature Type | E1: Feature Height (m) | F1: Feature Length (m) | G1: Comments
A2: 2 | B2: 460-422700-54400 | C2: 2 | D2: F | E2: 12 | F2: 1 | G2: Barrier to upstream fish migration
A3: 4 | B3: 11174 | C3: 3 | D3: F | E3: 10 | F3: 1 | G3: Barrier to upstream fish migration
A4: 5 | B4: 11643 | C4: 1 | D4: C | E4: 3 | F4: 1 | G4: Barrier to upstream fish migration
A5: 7 | B5: 11638 | C5: 1 | D5: LS | E5: 35 | F5: 150 | G5: Landslide into creek (may limit access)
A6: 7 | B6: 11638 | C6: 1 | D6: F | E6: 4 | F6: 0 | G6: Barrier to upstream fish migration
A7: 9 | B7: 11687 | C7: 2 | D7: C | E7: 5 | F7: 2 | G7: Barrier to upstream fish migration
A8: 9 | B8: 11687 | C8: 2 | D8: C | E8: 30 | F8: 8 | G8: Bedrock cascade (1 m falls and 2 m chutes located throughout cascade)
A9: 16 | B9: 12478 | C9: 3 | D9: C | E9: 30 | F9: 30 | G9: Barrier to upstream fish migration (bedrock)
A10: 21 | B10: 11324 | C10: 1 | D10: F | E10: 20 | F10: 1 | G10: Barrier to upstream fish migration
A11: 24 | B11: 460-422700-34200 | C11: 3 | D11: CV | E11: 2 | F11: 30 | G11: Perched culvert (1 m), barrier to upstream fish migration
A12: 26 | B12: 12234 | C12: 2 | D12: F | E12: 3.5 | G12: Barrier
A13: 27 | B13: 13134 | C13: 1 | D13: C | E13: 2 | F13: 7 | G13: One of many cascades (barrier)
A14: 27 | B14: 13134 | C14: 1 | D14: F | E14: 8 | G14: Barrier to upstream fish migration
A15: 31 | B15: 460-422700-09600-48500 | C15: 5 | D15: C | E15: 30 | F15: 30 | G15: Cascade
A16: 31 | B16: 460-422700-09600-48500 | C16: 5 | D16: X | E16: 60 | F16: 100 | G16: Debris jam
A17: 31 | B17: 460-422700-09600-48500 | C17: 5 | D17: C | E17: 20 | F17: 20 | G17: Barrier to upstream fish migration
A18: 102 | B18: 11670 | C18: 3 | D18: F | E18: 4 | F18: 1 | G18: Impassible falls confirmed
A19: 112 | B19: 11505 | C19: 2 | D19: F | E19: 15 | G19: Barrier to upstream fish migration
A20: 121 | B20: 12514 | C20: 1 | D20: F | E20: 10 | F20: 3 | G20: Impassible to all species
A21: 129 | B21: 12155 | C21: 1 | D21: LS | E21: 10 | F21: 150 | G21: Landslide into creek
A22: 135 | B22: 13061 | C22: 2 | D22: CV | E22: 0.89999998 | F22: 10 | G22: Perched culvert (50 cm), partial barrier
A23: 138 | B23: 460-422700-09600 | C23: 7 | D23: C | E23: 3.5 | F23: 2 | G23: Barrier to upstream fish migration
A24: 143 | B24: 13432 | C24: 1 | D24: C | E24: 2.3 | F24: 1 | G24: 2.3 m vertical drop
A25: 143 | B25: 13432 | C25: 1 | D25: LS | E25: 2 | F25: 15 | G25: Impassible landslide
A26: 143 | B26: 13432 | C26: 1 | D26: C | E26: 0.80000001 | F26: 10 | G26: Bedrock chute (0.85 m vertical drop) 22% gradient
A27: 145 | B27: 11672 | C27: 1 | D27: CV | E27: 1 | F27: 15 | G27: Partial barrier to fish
A28: 145 | B28: 11672 | C28: 1 | D28: C | E28: 7 | F28: 15 | G28: Barrier to fish
A29: 146 | B29: 11671 | C29: 2 | D29: C | E29: 3 | F29: 1 | G29: Bedrock cascade
A30: 148 | B30: 12377 | C30: 2 | D30: C | E30: 4 | F30: 8 | G30: Bedrock cascade-barrier to upstream fish migration.
A31: 148 | B31: 12377 | C31: 2 | D31: C | E31: 1.3 | F31: 2 | G31: Located 250 - 300 m downstream of the upper cascade
A32: 149 | B32: 12245 | C32: 1 | D32: CV | E32: 1.8 | F32: 12 | G32: 0.40 m drop. Barrier to fish
A33: C: cascade, CV: culvert, F: falls, LS: landslide, X: debris jam

Sheet Table 4 Fish Capture Locations
A1: Site | B1: ILP/WSC | C1: Reach | D1: Order | E1: Species | F1: Stage | G1: Number | H1: Mean Length (mm) | I1: Range of Lengths (mm)
A2: 2 | B2: 460-422700-54400 | C2: 2 | D2: 4 | E2: DV | F2: A | G2: 7 | H2: 181.4 | I2: 140-230
A3: 4 | B3: 11174 | C3: 3 | D3: 4 | E3: DV | F3: A | G3: 9 | H3: 186.7 | I3: 150-230
A4: 7 | B4: 11638 | C4: 1 | D4: 2 | E4: DV | F4: A | G4: 3 | H4: 203.3 | I4: 180-240
A5: 9 | B5: 11687 | C5: 2 | D5: 4 | E5: DV | F5: A | G5: 6 | H5: 180 | I5: 140-220
A6: 12 | B6: 460-422700-28300 | C6: 3 | D6: 4 | E6: DV | F6: J | G6: 10 | H6: 71 | I6: 60-80
A7: 12 | B7: 460-422700-28300 | C7: 3 | D7: 4 | E7: DV | F7: A | G7: 5 | H7: 153 | I7: 140-165
A8: 13 | B8: 12496 | C8: 1 | D8: 2 | E8: DV | F8: A | G8: 2 | H8: 165 | I8: 160-170
A9: 13 | B9: 12496 | C9: 1 | D9: 2 | E9: RB | F9: J | G9: 2 | H9: 72.5 | I9: 70-75
A10: 13 | B10: 12496 | C10: 1 | D10: 2 | E10: RB | F10: A | G10: 8 | H10: 153.1 | I10: 140-170
A11: 14 | B11: 12496 | C11: 2 | D11: 2 | E11: RB | F11: A | G11: 2 | H11: 170 | I11: 170
A12: 14 | B12: 12496 | C12: 2 | D12: 2 | E12: RB | F12: J | G12: 8 | H12: 85.6 | I12: 70-115
A13: 23 | B13: 460-422700-34200 | C13: 2 | D13: 2 | E13: DV | F13: J | G13: 10 | H13: 81.5 | I13: 75-90
A14: 27 | B14: 13134 | C14: 1 | D14: 3 | E14: DV | F14: A | G14: 3 | H14: 165 | I14: 160-170
A15: 30 | B15: 13109 | C15: 1 | D15: 2 | E15: DV | F15: A | G15: 5 | H15: 176 | I15: 170-180
A16: 31 | B16: 460-422700-09600-48500 | C16: 5 | D16: 3 | E16: DV | F16: A | G16: 9 | H16: 157.8 | I16: 140-180
A17: 31 | B17: 460-422700-09600-48500 | C17: 5 | D17: 3 | E17: DV | F17: J | G17: 3 | H17: 66.7 | I17: 60-70
A18: 108 | B18: 11657 | C18: 3 | D18: 1 | E18: BT | F18: A | G18: 2 | H18: 271.5 | I18: 258-285
A19: 108 | B19: 11657 | C19: 3 | D19: 1 | E19: BT | F19: J | G19: 1 | H19: 129 | I19: 129
A20: 110 | B20: 11651 | C20: 3 | D20: 2 | E20: BT | F20: J | G20: 1 | H20: 135 | I20: 135
A21: 111 | B21: 11505 | C21: 1 | D21: 2 | E21: DV | F21: J | G21: 3 | H21: 76.3 | I21: 65-86
A22: 112 | B22: 11505 | C22: 2 | D22: 2 | E22: DV | F22: J | G22: 4 | H22: 71.5 | I22: 56-89
A23: 114 | B23: 12424 | C23: 1 | D23: 3 | E23: DV | F23: J | G23: 6 | H23: 121.7 | I23: 110-135
A24: 115 | B24: 12521 | C24: 1 | D24: 3 | E24: DV | F24: J | G24: 5 | H24: 48.2 | I24: 41-58
A25: 117 | B25: 12522 | C25: 1 | D25: 2 | E25: DV | F25: J | G25: 3 | H25: 72 | I25: 62-81
A26: 118 | B26: 12518 | C26: 1 | D26: 2 | E26: DV | F26: J | G26: 5 | H26: 75.2 | I26: 65-86
A27: 121 | B27: 12514 | C27: 1 | D27: 2 | E27: DV | F27: J | G27: 5 | H27: 53.4 | I27: 49-65
A28: 122 | B28: 11529 | C28: 3 | D28: 2 | E28: DV | F28: J | G28: 5 | H28: 82.2 | I28: 75-92
A29: 125 | B29: 11532 | C29: 2 | D29: 3 | E29: DV | F29: J | G29: 5 | H29: 86.2 | I29: 78-96
A30: 126 | B30: 11532 | C30: 3 | D30: 3 | E30: DV | F30: J | G30: 4 | H30: 68.5 | I30: 52-83
A31: 127 | B31: 12137 | C31: 1 | D31: 3 | E31: RB | F31: J | G31: 4 | H31: 110.75 | I31: 92-121
A32: 136 | B32: 13061 | C32: 1 | D32: 1 | E32: DV | F32: A | G32: 3 | H32: 170 | I32: 162-175
A33: 139 | B33: 460-422700-09600 | C33: 6 | D33: 4 | E33: DV | F33: J | G33: 6 | H33: 123.5 | I33: 89-146
A34: 143 | B34: 13432 | C34: 1 | D34: 3 | E34: RB | F34: J | G34: 9 | H34: 105 | I34: 65-132
A35: 145 | B35: 11672 | C35: 1 | D35: 2 | E35: DV | F35: J | G35: 12 | H35: 122.7 | I35: 110-139
A36: 149 | B36: 12245 | C36: 1 | D36: 1 | E36: DV | F36: J | G36: 3 | H36: 103 | I36: 75-121
A37: 150 | B37: 12246 | C37: 1 | D37: 2 | E37: DV | F37: J | G37: 6 | H37: 130.3 | I37: 110-156
A38: A: adult, BT: bull trout, DV: Dolly Varden, J: juvenile, RB: rainbow trout

Sheet Table 5 Fish Bearing Reaches
A1: Site | B1: ILP/WSC | C1: Reach | D1: Width (m) | E1: Gradient (%) | F1: Species | G1: Stream Class | H1: Follow-up Sampling (y or n) | I1: Comments
A2: 2 | B2: 460-422700-54400 | C2: 2 | D2: 10.866667 | E2: 5 | F2: DV | G2: S2/S5 | H2: n | I2: ='Table 6 Non Fish Bearing'!P4 -> Falls (12 m) prevent upstream fish migration. Seven (7) sample sites upstream of the falls confirms that no resident fish are present. Dolly Varden were captured downstream of the barrier.
A3: 4 | B3: 11174 | C3: 3 | D3: 8.7833335 | E3: 10.25 | F3: DV | G3: S2/S5 | H3: n | I3: ='Table 6 Non Fish Bearing'!P6 -> Falls (10 m) prevent upstream fish migration. Adequate sampling above the falls confirms the absence of resident fish. Dolly Varden were captured downstream of the falls.
A4: 5 | B4: 11643 | C4: 1 | D4: 2.3666667 | E4: 25.25 | F4: NFC | G4: S3/S6 | H4: n | I4: ='Table 6 Non Fish Bearing'!P7 -> High gradient (25%) and cascades (3 m) prevent upstream fish migration. Four (4) sample sites upstream of the obstructions confirms the absence of a resident fish population. Fish may access the lower 100 m of this reach.
A5: 7 | B5: 11638 | C5: 1 | D5: 2 | E5: 23.25 | F5: DV | G5: S3/S6 | H5: n | I5: ='Table 6 Non Fish Bearing'!P9 -> High gradient (23%) and Falls (4 m) prevents upstream fish migration. Two (2) sample sites upstream of the falls confirms the absence of a resident fish population. Dolly Varden were captured downstream of the falls.
A6: 9 | B6: 11687 | C6: 2 | D6: 2.75 | E6: 8 | F6: DV | G6: S3/S6 | H6: n | I6: ='Table 6 Non Fish Bearing'!P11 -> Cascade (30 m) prevents usptream fish migration. Three (3) sample sites upstream of the cascade confirms the absence of a resident fish population. Dolly Varden were captured downstream of the cascade.
A7: 11 | B7: 460-422700-28300 | C7: 4 | D7: 2.5666666 | E7: 7.5 | F7: NFC | G7: S3 | H7: n | I7: No barriers to upstream fish migration were observed in this reach. Potential fish access from Reach 3 which is fish bearing.
A8: 12 | B8: 460-422700-28300 | C8: 3 | D8: 0 | E8: 0 | F8: DV | G8: NA | H8: n | I8: Fish sampling only.
A9: 13 | B9: 12496 | C9: 1 | D9: 1.5333333 | E9: 4 | F9: DV, RB | G9: S3 | H9: n | I9: Low spawning, rearing , and overwintering potential.
A10: 14 | B10: 12496 | C10: 2 | D10: 0 | E10: 0 | F10: RB | G10: NA | H10: n | I10: Fish sampling only.
A11: 15 | B11: 12478 | C11: 1 | D11: 1.5333333 | E11: 4.25 | F11: NFC | G11: S3 | H11: n | I11: No barriers to upstream fish migration were observed in this reach. Fish access from the Telkwa River may be possible during high water.
A12: 17 | B12: 12397 | C12: 1 | D12: 1.5 | E12: 4.5 | F12: NS | G12: S3 | H12: n | I12: No barriers to upstream fish migration were identified. Fish access may be possible from downstream fish bearing water.
A13: 21 | B13: 11324 | C13: 1 | D13: 9.8333333 | E13: 4.25 | F13: NFC | G13: S2/S5 | H13: n | I13: ='Table 6 Non Fish Bearing'!P16 -> Falls (20 m) blocks upstream fish migration. Six (6) sample sites upstream of the barrier confirms the absence of a resident fish population. Fish bearing below the falls based on access.
A14: 23 | B14: 460-422700-34200 | C14: 2 | D14: 3.2833333 | E14: 6.75 | F14: DV | G14: S3 | H14: n | I14: Low spawning and rearing potential. No overwintering habitat.
A15: 24 | B15: 460-422700-34200 | C15: 3 | D15: 1.5 | E15: 6.5 | F15: NFC | G15: S3 | H15: n | I15: Perched culvert downstream blocks upstream fish access to this reach. No permanent barriers to upstream fish migration were identified.
A16: 27 | B16: 13134 | C16: 1 | D16: 2.4833333 | E16: 9.5 | F16: DV | G16: S3/S6 | H16: n | I16: ='Table 6 Non Fish Bearing'!P20 -> Falls (8 m) located in the upper portion of this reach blocks upstream fish migraiton.
A17: 30 | B17: 13109 | C17: 1 | D17: 1.35 | E17: 8 | F17: DV | G17: S4/S6 | H17: n | I17: Low spawning and rearing potential. No overwintering habitat.
A18: 31 | B18: 460-422700-09600-48500 | C18: 5 | D18: 9.1833332 | E18: 7.75 | F18: DV | G18: S2/S5 | H18: n | I18: ='Table 6 Non Fish Bearing'!P23 -> Moderate spawning, rearing and overwintering habitat. Cascade (20/20 m) in the upper portion of reach blocks upstream fish migration. Seven (7) sample sites upstream of the cascade confirms the absence of a resident fish population.
A19: 104 | B19: 460-422700-59600 | C19: 2 | D19: 8.2 | E19: 5.25 | F19: NFC | G19: S2/S5 | H19: n | I19: ='Table 6 Non Fish Bearing'!P29 -> Falls (8 m) prevents upstream fish migration. Eight (8) sample sites upstream of the falls confirms the absence of a resident fish population.
A20: 108 | B20: 11657 | C20: 3 | D20: 1.2383333 | E20: 1.625 | F20: BT | G20: S4 | H20: n | I20: Moderate rearing and spawning habitat. No overwintering habitat observed.
A21: 109 | B21: 11651 | C21: 4 | D21: 2.5333333 | E21: 3.75 | F21: NFC | G21: S3* | H21: n | I21: Potential fish access during high water.
A22: 110 | B22: 11651 | C22: 3 | D22: 2.3 | E22: 1.625 | F22: BT | G22: S3 | H22: n | I22: High quality rearing and spawning habitat. Overwintering habitat present in upstream pond.
A23: 111 | B23: 11505 | C23: 1 | D23: 1.83 | E23: 1.625 | F23: DV | G23: S3 | H23: n | I23: Moderate rearing habitat. Poor spawning habitat. No overwintering habitat.
A24: 112 | B24: 11505 | C24: 2 | D24: 1.6266666 | E24: 3.25 | F24: DV | G24: S3 | H24: n | I24: Moderate rearing habitat. Poor spawning habitat. No overwintering habitat.
A25: 114 | B25: 12424 | C25: 1 | D25: 3.6333333 | E25: 4 | F25: DV | G25: S3 | H25: n | I25: Moderate rearing and spawning habitat. Overwintering habitat was not identified.
A26: 115 | B26: 12521 | C26: 1 | D26: 1.585 | E26: 1.375 | F26: DV | G26: S3 | H26: n | I26: Poor rearing and spawning habitat. No overwintering habitat.
A27: 117 | B27: 12522 | C27: 1 | D27: 1.5066667 | E27: 6.75 | F27: DV | G27: S3/S6 | H27: n | I27: Poor rearing and spawning habitat. No overwintering habitat. The average gradient increases to (20%) upstream of the confluence with ILP 12523. This gradient is a barrier to upstream fish migration.
A28: 118 | B28: 12518 | C28: 1 | D28: 2.6833333 | E28: 5.25 | F28: DV | G28: S3 | H28: n | I28: Moderate rearing habitat. Poor spawning habitat. No overwintering habitat observed.
A29: 119 | B29: 12518 | C29: 2 | D29: 1.1816667 | E29: 3.25 | F29: NFC | G29: S4* | H29: n | I29: No barriers to upstream fish migration were identified. Fish access is possible from downstream fish bearing water.
A30: 121 | B30: 12514 | C30: 1 | D30: 2.95 | E30: 6.25 | F30: DV | G30: S3 | H30: n | I30: Moderate rearing habitat. Poor spawning habitat. No overwintering habitat observed.
A31: 122 | B31: 11529 | C31: 3 | D31: 4.4833333 | E31: 8 | F31: DV | G31: S3 | H31: n | I31: Moderate rearing habitat. Poor spawning habitat. No overwintering habitat observed.
... A35: 126 | B35: 11532 | C35: 3 | D35: 5.05 | E35: 10.5 | F35: DV | G35: S2 | H35: n | I35: Moderate rearing habitat. Poor spawning habitat. Overwintering habitat present.
A36: 127 | B36: 12137 | C36: 1 | D36: 3.0666667 | E36: 19.25 | F36: RB | G36: S3/S5 | H36: n | I36: ='Table 6 Non Fish Bearing'!P37 -> Poor rearing and spawning habitat. No overwintering habitat present. The gradient increases to 30% for 30 m and 45% for 30 m. No fish were captured above the increased gradient section.
A37: 133 | B37: 13058 | C37: 1 | D37: 2.35 | E37: 6.25 | F37: NFC | G37: S3* | H37: n | I37: No barriers to upstream fish migration were identified. Fish access is possible from downstream fish bearing water.
A38: 134 | B38: 13058 | C38: 2 | D38: 2.0333333 | E38: 8.25 | F38: NFC | G38: S3*/S6 | H38: n | I38: No barriers to upstream fish migration were identified. Fish access is possible from downstream fish bearing water. Second pass sampling above the road crossing confirms fish absence from this section of the reach.
A39: 135 | B39: 13061 | C39: 2 | D39: 1.1416667 | E39: 6.5 | F39: NFC | G39: S4* | H39: n | I39: No barriers to upstream fish migration were identified. Potential fish access to this reach from downstream fish bearing water.
A40: 136 | B40: 13061 | C40: 1 | D40: 1.6116667 | E40: 14.25 | F40: DV | G40: S3 | H40: n | I40: Poor rearing and spawning habitat. No overwintering habitat.
A41: 143 | B41: 13432 | C41: 1 | D41: 3.0833333 | E41: 13 | F41: RB | G41: S3/S5 | H41: n | I41: Poor rearing and spawning habitat. No overwintering habitat. Cascade blocks upstream fish migration.
A42: 144 | B42: 12455 | C42: 2 | D42: 1.5483333 | E42: 8.75 | F42: NFC | G42: S3* | H42: n | I42: No barriers to upstream fish migration were identified.
A43: 145 | B43: 11672 | C43: 1 | D43: 2.3 | E43: 7.5 | F43: DV | G43: S3/S6 | H43: n | I43: ='Table 6 Non Fish Bearing'!P49 -> Cascade (7/15 m) prevents upstream fish migration. Dolly Varden were captured downstream of the cascade. No fish were captured upstream of the cascade with adequate sampling (one additional sample site).
A44: 146 | B44: 11671 | C44: 2 | D44: 1.4966667 | E44: 5.5 | F44: NFC | G44: S3*/S6 | H44: n | I44: ='Table 6 Non Fish Bearing'!P50 -> Cascade (3/1 m) prevents upstream fish migration. No fish were captured upstream of the cascade with adequate sampling effort (100 m and 131 seconds of effort).
A45: 148 | B45: 12377 | C45: 2 | D45: 1.4933333 | E45: 5.25 | F45: NFC | G45: S4*/S6 | H45: n | I45: ='Table 6 Non Fish Bearing'!P51 -> Bedrock cascade (4/8 m) prevents upstream fish migration. No fish were captured upstream of the cascade with adequate sampling effort (one additional site, plus 376 sec over 250 m).
A46: 149 | B46: 12245 | C46: 1 | D46: 1.735 | E46: 9.5 | F46: DV | G46: S3 | H46: n | I46: Moderate rearing habitat. Poor spawning habitat. No overwintering habitat observed.
A47: 150 | B47: 12246 | C47: 1 | D47: 1.7483333 | E47: 11.5 | F47: DV | G47: S3 | H47: n | I47: Moderate rearing habitat. Poor spawning habitat. No overwintering habitat.
A48: BT: bull trout, DV: Dolly Varden, RB: rainbow trout, NA: not applicable, NFC: no fish caught, NS: not sampled

Sheet Table 6 Non Fish Bearing
A1: Site | B1: ILP/WSC | C1: Reach | D1: Width (m) | E1: Gradient (%) | F1: Stream Class | G1: Date | H1: Electrofishing Specifications | N1: Other Methods | P1: Comments | Q1: Additional Rationale
H2: Dist. (m) | I2: Time (s) | J2: Cond. (uS) | K2: Stage (vis) | L2: Turb. (vis) | M2: Temp. (oC) | N2: Type | O2: Method
A3: 1 | B3: 460-422700-54400 | C3: 3 | D3: 8.4166667 | E3: 8 | F3: S5 | G3: 2000/09/07 | H3: 500 | I3: 931 | J3: 40 | K3: Mod | L3: L | M3: 5 | N3: NA | O3: NA | P3: Falls (12 m) in Reach 2 prevent upstream fish migration. Seven (7) sample sites upstream of the falls confirms that no resident fish are present upstream of the barrier. | Q3: Second pass sampling confirms non fish bearing status.
A4: 2 | B4: 460-422700-54400 | C4: 2 | D4: 10.866667 | E4: 5 | F4: S2/S5 | G4: 2000/09/07 | H4: 300 | I4: 241 | J4: 40 | K4: Mod | L4: L | M4: 5 | N4: NA | O4: NA | P4: Falls (12 m) prevent upstream fish migration. Seven (7) sample sites upstream of the falls confirms that no resident fish are present. Dolly Varden were captured downstream of the barrier. | Q4: Second pass sampling above the falls confirms non fish bearing status.
A5: 3 | B5: 11174 | C5: 3 | D5: 7.6666667 | E5: 15 | F5: S5 | G5: 2000/09/07 | H5: 210 | I5: 894 | J5: 50 | K5: Mod | L5: C | M5: 6 | N5: NA | O5: NA | P5: Falls (10 m) prevent upstream fish migration. Sampling above the falls confirms fish absence. | Q5: The majority of stream reaches upstream of the falls are over 30% (map interpretation).
A6: 4 | B6: 11174 | C6: 3 | D6: 8.7833335 | E6: 10.25 | F6: S2/S5 | G6: 2000/09/07 | H6: 280 | I6: 410 | J6: 50 | K6: Mod | L6: C | M6: 6 | N6: NA | O6: NA | P6: Falls (10 m) prevent upstream fish migration. Adequate sampling above the falls confirms the absence of resident fish. Dolly Varden were captured downstream of the falls. | Q6: The majority of stream reaches upstream of the falls are over 30% (map interpretation).
A7: 5 | B7: 11643 | C7: 1 | D7: 2.3666667 | E7: 25.25 | F7: S3/S6 | G7: 2000/09/07 | H7: 180 | I7: 943 | J7: 40 | K7: Mod | L7: C | M7: 6 | N7: NA | O7: NA | P7: High gradient (25%) and cascades (3 m) prevent upstream fish migration. Four (4) sample sites upstream of the obstructions confirms the absence of a resident fish population. Fish may access the lower 100 m of this reach. | Q7: Second pass sampling upstream of the cascade confirms non fish bearing status.
A8: 6 | B8: 11643 | C8: 2 | D8: 1.9 | E8: 11 | F8: S6 | G8: 2000/09/07 | H8: 100 | I8: 254 | J8: 40 | K8: Mod | L8: C | M8: 6 | N8: NA | O8: NA | P8: Gradient (25%) and cascades (3 m) in Reach 1 prevent upstream fish migration to this reach. Four (4) sample sites upstream of the barriers confirms the absence of a resident fish population. | Q8: Second pass sampling confirms non fish bearing status.
A9: 7 | B9: 11638 | C9: 1 | D9: 2 | E9: 23.25 | F9: S3/S6 | G9: 2000/09/07 | H9: 650 | I9: 712 | J9: 40 | K9: Mod | L9: C | M9: 6 | N9: NA | O9: NA | P9: High gradient (23%) and Falls (4 m) prevents upstream fish migration. Two (2) sample sites upstream of the falls confirms the absence of a resident fish population. Dolly Varden were captured downstream of the falls. | Q9: None
A10: 8 | B10: 11638 | C10: 2 | D10: 2.0166667 | E10: 8.75 | F10: S6 | G10: 2000/09/07 | H10: 230 | I10: 844 | J10: 40 | K10: Mod | L10: C | M10: 6 | N10: NA | O10: NA | P10: High gradient (23%) and a Falls (4 m) in Reach 1 prevents upstream fish migration. Two (2) sample sites upstream of the falls confirms the absence of a resident fish population. | Q10: None
A11: 9 | B11: 11687 | C11: 2 | D11: 2.75 | E11: 8 | F11: S3/S6 | G11: 2000/09/08 | H11: 427 | I11: 824 | J11: 40 | K11: Mod | L11: C | M11: 6 | N11: NA | O11: NA | P11: Cascade (30 m) prevents usptream fish migration. Three (3) sample sites upstream of the cascade confirms the absence of a resident fish population. Dolly Varden were captured downstream of the cascade. | Q11: Second pass sampling upstream of the cascade confirms non fish bearing status.
A12: 16 | B12: 12478 | C12: 3 | D12: 0.83333332 | E12: 5 | F12: S6 | G12: 2000/09/08 | H12: 250 | I12: NS | J12: NS | K12: Low | L12: NS | M12: NS | N12: NA | O12: NA | P12: Cascade (30 m) in Reach 2 prevents upstream fish migration to this reach. Two (2) sample sites upstream of the cascade confirms the absence of a resident fish population. | Q12: Second pass sampling confirms non fish bearing status.
A13: 18 | B13: 12397 | C13: 3 | D13: 1.1666667 | E13: 6.5 | F13: S6 | G13: 2000/09/08 | H13: 200 | I13: 803 | J13: 50 | K13: Mod | L13: C | M13: 7 | N13: NA | O13: NA | P13: Second pass sampling confirms non fish bearing status. Numerous obstructions (sediment wedges, debris jams and isolated pools) combined with inadequate flow prevents fish access to this reach. | Q13: None
A14: 19 | B14: 12402 | C14: 2 | D14: 1.65 | E14: 7 | F14: S6 | G14: 2000/09/08 | H14: 510 | I14: 1052 | J14: 50 | K14: Mod | L14: C | M14: 7 | N14: NA | O14: NA | P14: Second pass sampling confirms non fish bearing status. Gradient (map interpretation of 24%) in Reach 1 prevents fish access to this reach. | Q14: None
A15: 20 | B15: 11284 | C15: 1 | D15: 8.45 | E15: 26.5 | F15: S5 | G15: 2000/09/09 | H15: 200 | I15: 948 | J15: 50 | K15: Mod | L15: C | M15: 7 | N15: NA | O15: NA | P15: High gradient and numerous barriers (cascades 1/1 m, 3/3 m and falls 1 m) block upstream fish migration. Two (2) sample sites upstream of the obstructions confirms the non fish bearing status of this reach. | Q15: All of the reaches above the sampled reach have gradients greater than 20% (map interpretation).
A16: 21 | B16: 11324 | C16: 1 | D16: 9.8333333 | E16: 4.25 | F16: S2/S5 | G16: 2000/09/09 | H16: 380 | I16: 706 | J16: 60 | K16: Mod | L16: C | M16: 7 | N16: NA | O16: NA | P16: Falls (20 m) blocks upstream fish migration. Six (6) sample sites upstream of the barrier confirms the absence of a resident fish population. Fish bearing below the falls based on access. | Q16: Falls are a barrier to all fish species.
A17: 22 | B17: 12133 | C17: 1 | D17: 0 | E17: 2.5 | F17: NVC | G17: 2000/09/09 | H17: 100 | I17: NA | J17: NA | K17: NA | L17: NA | M17: NA | N17: NA | O17: NA | P17: No visible channel. Area does not convey flow. No potential fish habitat. | Q17: Mapped as a first order drainage approximately 400 m in length. The catchment area is too small to generate a stream channel.
A18: 25 | B18: 12181 | C18: 1 | D18: 4.5333333 | E18: 24 | F18: S5 | G18: 2000/09/09 | H18: 310 | I18: 741 | J18: 50 | K18: Mod | L18: C | M18: 7 | N18: NA | O18: NA | P18: Gradient (>20%) combined with falls (1 m) and cascades (1/1 m) prevent upstream fish migration to this reach. | Q18: The majority of stream reaches upstream of the falls are over 20% (map interpretation).
A19: 26 | B19: 12234 | C19: 2 | D19: 1.1 | E19: 6.25 | F19: S6 | G19: 2000/09/09 | H19: 240 | I19: 527 | J19: 60 | K19: Low | L19: C | M19: 6 | N19: NA | O19: NA | P19: High gradient (27%) in Reach 1 blocks upsream fish migration. Two (2) sample sites upstream of the gradient section confirms that a resident fish population does not exist above the barrier. | Q19: None
A20: 27 | B20: 13134 | C20: 1 | D20: 2.4833333 | E20: 9.5 | F20: S3/S6 | G20: 2000/09/10 | H20: 150 | I20: 728 | J20: 60 | K20: Low | L20: C | M20: 6 | N20: NA | O20: NA | P20: Falls (8 m) located in the upper portion of this reach blocks upstream fish migraiton. | Q20: Five (5) sample sites upstream of the falls confirm fish absence. The falls are a barrier to all fish species.
A21: 28 | B21: 13134 | C21: 2 | D21: 2.2 | E21: 6 | F21: S6 | G21: 2000/09/10 | H21: 110 | I21: 317 | J21: 50 | K21: Low | L21: C | M21: 6 | N21: NA | O21: NA | P21: Falls (8 m) in Reach 1 prevents upstream fish migration. Five (5) sample sites upstream of the falls confirm fish absence. | Q21: None
A22: 30 | B22: 13109 | C22: 1 | D22: 1.35 | E22: 8 | F22: S4/S6 | G22: 2000/09/10 | H22: 700 | I22: 977 | J22: 60 | K22: Mod | L22: C | M22: 7 | N22: NA | O22: NA | P22: Low spawning and rearing potential. No overwintering habitat. Fish can access the lower 100 m of this stream. Gradient increases to >30% above that point. | Q22: Numerous gradient shots upstream of Reach 1: 35%, 28%, 31% and 32% over 50 m. Two (2) sample sites upstream of gradient section confirms fish absence above the barrier.
A23: 31 | B23: 460-422700-09600-48500 | C23: 5 | D23: 9.1833332 | E23: 7.75 | F23: S2/S5 | G23: 2000/09/10 | H23: 500 | I23: 589 | J23: 50 | K23: Mod | L23: C | M23: 6 | N23: NA | O23: NA | P23: Moderate spawning, rearing and overwintering habitat. Cascade (20/20 m) in the upper portion of reach blocks upstream fish migration. Seven (7) sample sites upstream of the cascade confirms the absence of a resident fish population. | Q23: None
A24: 32 | B24: 460-422700-09600-48500 | C24: 6 | D24: 5.4666667 | E24: 6.5 | F24: S5 | G24: 2000/09/10 | H24: 520 | I24: 673 | J24: 50 | K24: Mod | L24: C | M24: 6 | N24: NA | O24: NA | P24: Cascade (20/20 m) in the upper portion of Reach 5 blocks upstream fish migration. Seven (7) sample sites upstream of the cascade confirms the absence of a resident fish population upstream of the barrier. | Q24: None
A25: 35 | B25: 13433 | C25: 1 | D25: 1.1666667 | E25: 3.5 | F25: S6 | G25: 2000/09/10 | H25: 200 | I25: NS | J25: NS | K25: Low | L25: NS | M25: NS | N25: NA | O25: NA | P25: Cascade (2.3/1 m) in Reach 1 of downstream ILP (13432) prevents upstream fish migration. Eight (8) sample sites upstream of the cascade confirm the absence of a resident fish population. | Q25: None
A26: 101 | B26: 460-422700-54400 | C26: 3 | D26: 11.683333 | E26: 3.125 | F26: S5 | G26: 2000/09/07 | H26: 350 | I26: 392 | J26: 30 | K26: Low | L26: L | M26: 7 | N26: NA | O26: NA | P26: Falls (12 m) in Reach 2 prevents upstream fish migration. Seven (7) sample sites upstream of the falls confirms the absence of a resident population upstream of the barrier. | Q26: Second pass sampling confirms non fish bearing status.
A27: 102 | B27: 11670 | C27: 3 | D27: 8.4166666 | E27: 9.75 | F27: S5 | G27: 2000/09/07 | H27: 200 | I27: 306 | J27: 40 | K27: Low | L27: C | M27: 7 | N27: NA | O27: NA | P27: Falls (4 m) prevent upstream fish migration. Three (3) sample sites upstream of the falls confirms that a resident fish populations is not present upstream of the barrier. | Q27: None
A28: 103 | B28: 11670 | C28: 4 | D28: 7.6833335 | E28: 6.75 | F28: S5 | G28: 2000/09/07 | H28: 300 | I28: 316 | J28: 40 | K28: Low | L28: C | M28: 7 | N28: NA | O28: NA | P28: Falls (4 m) in Reach 3 prevent upstream fish migration. Three (3) sample sites upstream of the falls confirms that a resident fish population is not present upstream of the barrier. | Q28: None
A29: 104 | B29: 460-422700-59600 | C29: 2 | D29: 8.2 | E29: 5.25 | F29: S2/S5 | G29: 2000/09/07 | H29: 300 | I29: 410 | J29: 40 | K29: Low | L29: C | M29: 7 | N29: NA | O29: NA | P29: Falls (8 m) prevents upstream fish migration. Eight (8) sample sites upstream of the falls confirms the absence of a resident fish population. | Q29: None
A30: 105 | B30: 11226 | C30: 1 | D30: 7.3166668 | E30: 3.75 | F30: S5 | G30: 2000/09/07 | H30: 100 | I30: 189 | J30: 40 | K30: Low | L30: C | M30: 7 | N30: NA | O30: NA | P30: Falls (8 m) in Reach 2 of WSC 460-422700-59600 prevents upstream fish migration to this stream. Eight (8) sample sites upstream of the falls confirms the absence of a resident fish population. | Q30: None
A31: 106 | B31: 460-422700-59600 | C31: 5 | D31: 7.7666667 | E31: 3 | F31: S5 | G31: 2000/09/07 | H31: 300 | I31: 329 | J31: 40 | K31: Low | L31: C | M31: 7 | N31: NA | O31: NA | P31: Falls (8 m) in Reach 2 of WSC 460-422700-59600 prevents upstream fish migration to this stream. Eight (8) sample sites upstream of the falls confirms the absence of a resident fish population. | Q31: None
A32: 107 | B32: 460-422700-59600 | C32: 4 | D32: 17.8 | E32: 2.25 | F32: S5 | G32: 2000/09/07 | H32: 400 | I32: 457 | J32: 40 | K32: Low | L32: C | M32: 7 | N32: NA | O32: NA | P32: Falls (8 m) in Reach 2 of WSC 460-422700-59600 prevents upstream fish migration to this stream. Eight (8) sample sites upstream of the falls confirms the absence of a resident fish population. | Q32: None
A33: 113 | B33: 11509 | C33: 1 | D33: 0 | E33: 0.875 | F33: NVC | G33: 2000/09/08 | H33: 100 | I33: NA | J33: NA | K33: NA | L33: NA | M33: NA | N33: NA | O33: NA | P33: No potential fish habitat. Wetland is not channelized and there is no surface or subsurface connectivity between isolated pockets of water. | Q33: The catchment area is too small to generate a stream channel.
A34: 116 | B34: 12521 | C34: 2 | D34: 1.6283334 | E34: 24.5 | F34: S6 | G34: 2000/09/08 | H34: 200 | I34: NS | J34: NS | K34: Low | L34: NS | M34: NS | N34: NA | O34: NA | P34: High gradient (24.5%) prevents fish access to this reach. Reach 3 is classified as NVC. | Q34: NVC was identified upstream of this reach.
A35: 117 | B35: 12522 | C35: 1 | D35: 1.5066667 | E35: 6.75 | F35: S3/S6 | G35: 2000/09/08 | H35: 200 | I35: 218 | J35: 60 | K35: Low | L35: C | M35: 7 | N35: NA | O35: NA | P35: Poor rearing and spawning habitat. No overwintering habitat. The average gradient increases to (20%) upstream of the confluence with ILP 12523. Gradient is a barrier to upstream fish migration. | Q35: One sample site upstream of the high gradient section confirms the absence of a resident fish population.
A36: 120 | B36: 12514 | C36: 2 | D36: 1.5766667 | E36: 2.5 | F36: S6 | G36: 2000/09/08 | H36: 400 | I36: 321 | J36: 60 | K36: Low | L36: C | M36: 7 | N36: NA | O36: NA | P36: Falls (10 m) in Reach 1 prevent upstream fish migration. Four (4) sample sites upstream of the falls confirms non fish bearing status. | Q36: None
A37: 127 | B37: 12137 | C37: 1 | D37: 3.0666667 | E37: 19.25 | F37: S3/S5 | G37: 2000/09/09 | H37: 100 | I37: 102 | J37: 50 | K37: Low | L37: C | M37: 7 | N37: NA | O37: NA | P37: Poor rearing and spawning habitat. No overwintering habitat present. The gradient increases to 30% for 30 m and 45% for 30 m. No fish were captured above the increased gradient section. | Q37: Four (4) sample sites (including second pass sampling) upstream of the high gradient section confirms non fish bearing status.
A38: 128 | B38: 12137 | C38: 2 | D38: 3.0666667 | E38: 4.5 | F38: S5 | G38: 2000/09/09 | H38: 200 | I38: 215 | J38: 50 | K38: Low | L38: C | M38: 7 | N38: NA | O38: NA | P38: Gradient (30% for 30 m and 45% for 30 m) in Reach 1 prevents upstream fish migration. Second pass sampling along with 4 sample sites above the high gradient section confirms non fish bearing status. | Q38: None
A39: 129 | B39: 12155 | C39: 1 | D39: 4.8333333 | E39: 6.25 | F39: S5 | G39: 2000/09/09 | H39: 400 | I39: 316 | J39: 40 | K39: Low | L39: C | M39: 6 | N39: NA | O39: NA | P39: Cascade (4 m) blocks upstream fish migration. Four (4) sample sites upstream of the cascade confirms non fish bearing status. | Q39: None
A40: 130 | B40: 12155 | C40: 2 | D40: 4.75 | E40: 4.25 | F40: S5 | G40: 2000/09/09 | H40: 200 | I40: 169 | J40: 40 | K40: Low | L40: C | M40: 6 | N40: NA | O40: NA | P40: Cascade (4 m) in Reach 1 blocks upstream fish migration. Four (4) sample sites upstream of the cascade confirms non fish bearing status.
A41: 131 | B41: 12181 | C41: 2 | D41: 0.97166666 | E41: 4.5 | F41: S6 | G41: 2000/09/09 | H41: 200 | I41: 137 | J41: 50 | K41: Low | L41: C | M41: 6 | N41: NA | O41: NA | P41: Gradient (>20%) combined with falls (1 m) and cascades (1/1 m) in Reach 1 prevents upstream fish migration to this reach. Three (3) sample sites upstream of the barriers confirms non fish bearing status. | Q41: None
A42: 132 | B42: 12234 | C42: 1 | D42: 2.7666667 | E42: 27 | F42: S6 | G42: 2000/09/09 | H42: 100 | I42: NS | J42: NS | K42: Low | L42: NS | M42: NS | N42: NA | O42: NA | P42: High gradient (27%) blocks upsream fish migration. Two (2) sample sites upstream of the high gradient section confirms non fish bearing status. | Q42: None
A43: 134 | B43: 13058 | C43: 2 | D43: 2.0333333 | E43: 8.25 | F43: S3*/S6 | G43: 2000/09/10 | H43: 500 | I43: 421 | J43: 50 | K43: Low | L43: C | M43: 6 | N43: NA | O43: NA | P43: Second pass sampling above the road crossing confirms fish absence from this section of the reach. | Q43: Non fish bearing upstream of the location of the second pass sampling.
A44: 137 | B44: 460-422700-09600 | C44: 8 | D44: 3.0333333 | E44: 1.375 | F44: S5 | G44: 2000/09/10 | H44: 200 | I44: 315 | J44: 70 | K44: Low | L44: C | M44: 8 | N44: NA | O44: NA | P44: Cascade (3.5/2 m) in Reach 6 prevents upstream fish migration to this reach. Eight (8) sample sites upstream of the cascade confirms the absence of a resident fish population. | Q44: None
A45: 138 | B45: 460-422700-09600 | C45: 7 | D45: 3.0333333 | E45: 1.375 | F45: S5 | G45: 2000/09/10 | H45: 300 | I45: 293 | J45: 70 | K45: Low | L45: C | M45: 8 | N45: NA | O45: NA | P45: Cascade (3.5/2 m) in Reach 6 prevents upstream fish migration to this reach. Eight (8) sample sites upstream of the cascade confirms the absence of a resident fish population. | Q45: None
A46: 140 | B46: 13439 | C46: 2 | D46: 0.77166667 | E46: 3.5 | F46: S6 | G46: 2000/09/10 | H46: 100 | I46: NS | J46: NS | K46: Low | L46: NS | M46: NS | N46: NA | O46: NA | P46: Gradient (25%) in Reach 1 prevents upstream fish migration to this reach. No perennial habitat present upstream of the high gradient section. | Q46: All of the reaches above the gradient break were sampled.
A47: 141 | B47: 13439 | C47: 1 | D47: 0.85 | E47: 25.75 | F47: S6 | G47: 2000/09/10 | H47: 100 | I47: NS | J47: NS | K47: Low | L47: NS | M47: NS | N47: NA | O47: NA | P47: Gradient (25%) prevents upstream fish migration to this reach. No perennial habitat upstream of the high gradient section. | Q47: All of the reaches upstream of the high gradient section were sampled.
A48: 143 | B48: 13432 | C48: 1 | D48: 3.0833333 | E48: 13 | F48: S3/S5 | G48: 2000/09/13 | H48: 100 | I48: 69 | J48: 80 | K48: Low | L48: C | M48: 7 | N48: NA | O48: NA | P48: Cascade (2.3 x 1 m) blocks upstream fish migration. Eight (8) sample sites upstream of the cascade confirms fish absence. | Q48: None
A49: 145 | B49: 11672 | C49: 1 | D49: 2.3 | E49: 7.5 | F49: S3/S6 | G49: 2000/09/13 | H49: 100 | I49: 132 | J49: 80 | K49: Low | L49: C | M49: 8 | N49: NA | O49: NA | P49: Cascade (7/15 m) prevents upstream fish migration. Dolly Varden were captured downstream of the cascade. No fish were captured upstream of the cascade with adequate sampling (one additional sample site). | Q49: None
A50: 146 | B50: 11671 | C50: 2 | D50: 1.4966667 | E50: 5.5 | F50: S3*/S6 | G50: 2000/09/13 | H50: 100 | I50: 131 | J50: 40 | K50: Low | L50: C | M50: 8 | N50: NA | O50: NA | P50: Cascade (3/1 m) prevents upstream fish migration. No fish were captured upstream of the cascade with adequate sampling effort (100 m and 131 seconds of effort). | Q50: None
A51: 148 | B51: 12377 | C51: 2 | D51: 1.4933333 | E51: 5.25 | F51: S4*/S6 | G51: 2000/09/15 | H51: 250 | I51: 376 | J51: 120 | K51: Low | L51: C | M51: 7 | N51: NA | O51: NA | P51: Bedrock cascade (4/8 m) prevents upstream fish migration. No fish were captured upstream of the cascade with adequate sampling effort (one additional site, plus 376 sec over 250 m). | Q51: A smaller cascade (1.3/2m) downstream of the 4 m cascade limits the upstream migration of juvenile fish but is not a definate barrier for adults.
A52: 151 | B52: 12132 | C52: 3 | D52: 1.4316667 | E52: 5.25 | F52: NVC/S6 | G52: 2000/09/15 | H52: 100 | I52: 121 | J52: 100 | K52: Low | L52: C | M52: 8 | N52: NA | O52: NA | P52: The lower portion of this reach is a vegetated seepage with no definable channel (NVC). A poorly defined channel exists upstream of the seepage. No fish were captured with adequate sampling effort. This reach is classifed as non fish bearing. | Q52: The NVC portion of this reach is a barrier to upstream fish migration. Sampling upstream of the barrier (NVC section) confirmed the absence of a resident fish population.
A53: C: clear, L: light, NA: not applicable, NVC: non visible channel, NS: not sampled, *: inferred data

Sheet Table 7 Stream Class
A1: Site | B1: ILP/WSC | C1: Reach | D1: Map Number | E1: Width (m) | F1: Gradient (%) | G1: Species | H1: Stream Class | I1: Comments
A2: 1 | B2: 460-422700-54400 | C2: 3 | D2: 93L.063 | E2: 8.4166667 | F2: 8 | G2: NFC | H2: S5 | I2: ='Table 6 Non Fish Bearing'!P3 -> Falls (12 m) in Reach 2 prevent upstream fish migration. Seven (7) sample sites upstream of the falls confirms that no resident fish are present upstream of the barrier.
A3: 2 | B3: 460-422700-54400 | C3: 2 | D3: 93L.063 | E3: 10.866667 | F3: 5 | G3: DV | H3: S2/S5 | I3: ='Table 6 Non Fish Bearing'!P4 -> Falls (12 m) prevent upstream fish migration. Seven (7) sample sites upstream of the falls confirms that no resident fish are present. Dolly Varden were captured downstream of the barrier.
A4: 3 | B4: 11174 | C4: 3 | D4: 93L.053 | E4: 7.6666667 | F4: 15 | G4: NFC | H4: S5 | I4: ='Table 6 Non Fish Bearing'!P5 -> Falls (10 m) prevent upstream fish migration. Sampling above the falls confirms fish absence.
A5: 4 | B5: 11174 | C5: 3 | D5: 93L.053 | E5: 8.7833335 | F5: 10.25 | G5: DV | H5: S2/S5 | I5: ='Table 6 Non Fish Bearing'!P6 -> Falls (10 m) prevent upstream fish migration. Adequate sampling above the falls confirms the absence of resident fish. Dolly Varden were captured downstream of the falls.
A6: 5 | B6: 11643 | C6: 1 | D6: 93L.063 | E6: 2.3666667 | F6: 25.25 | G6: NFC | H6: S3/S6 | I6: ='Table 6 Non Fish Bearing'!P7 -> High gradient (25%) and cascades (3 m) prevent upstream fish migration. Four (4) sample sites upstream of the obstructions confirms the absence of a resident fish population. Fish may access the lower 100 m of this reach.
A7: 6 | B7: 11643 | C7: 2 | D7: 93L.063 | E7: 1.9 | F7: 11 | G7: NFC | H7: S6 | I7: ='Table 6 Non Fish Bearing'!P8 -> Gradient (25%) and cascades (3 m) in Reach 1 prevent upstream fish migration to this reach. Four (4) sample sites upstream of the barriers confirms the absence of a resident fish population.
A8: 7 | B8: 11638 | C8: 1 | D8: 93L.063 | E8: 2 | F8: 23.25 | G8: DV | H8: S3/S6 | I8: ='Table 6 Non Fish Bearing'!P9 -> High gradient (23%) and Falls (4 m) prevents upstream fish migration. Two (2) sample sites upstream of the falls confirms the absence of a resident fish population. Dolly Varden were captured downstream of the falls.
A9: 8 | B9: 11638 | C9: 2 | D9: 93L.063 | E9: 2.0166667 | F9: 8.75 | G9: NFC | H9: S6 | I9: ='Table 6 Non Fish Bearing'!P10 -> High gradient (23%) and a Falls (4 m) in Reach 1 prevents upstream fish migration. Two (2) sample sites upstream of the falls confirms the absence of a resident fish population.
A10: 9 | B10: 11687 | C10: 2 | D10: 93L.063 | E10: 2.75 | F10: 8 | G10: DV | H10: S3/S6 | I10: ='Table 6 Non Fish Bearing'!P11 -> Cascade (30 m) prevents usptream fish migration. Three (3) sample sites upstream of the cascade confirms the absence of a resident fish population. Dolly Varden were captured downstream of the cascade.
A11: 10 | B11: 11687 | C11: 3 | D11: 093L.063 | E11: 0 | F11: 0 | G11: NFC | H11: NA | I11: Fish sampling only.
A12: 11 | B12: 460-422700-28300 | C12: 4 | D12: 93L.064 | E12: 2.5666666 | F12: 7.5 | G12: NFC | H12: S3 | I12: ='Table 5 Fish Bearing Reaches'!I7 -> No barriers to upstream fish migration were observed in this reach. Potential fish access from Reach 3 which is fish bearing.
A13: 12 | B13: 460-422700-28300 | C13: 3 | D13: 93L.064 | E13: 0 | F13: 0 | G13: DV | H13: NA | I13: Fish sampling only.
A14: 13 | B14: 12496 | C14: 1 | D14: 93L.064 | E14: 1.5333333 | F14: 4 | G14: DV, RB | H14: S3 | I14: Low spawning, rearing , and overwintering potential.
A15: 14 | B15: 12496 | C15: 2 | D15: 93L.064 | E15: 0 | F15: 0 | G15: RB | H15: NA | I15: Fish sampling only.
A16: 15 | B16: 12478 | C16: 1 | D16: 93L.064 | E16: 1.5333333 | F16: 4.25 | G16: NFC | H16: S3 | I16: ='Table 5 Fish Bearing Reaches'!I11 -> No barriers to upstream fish migration were observed in this reach. Fish access from the Telkwa River may be possible during high water.
A17: 16 | B17: 12478 | C17: 3 | D17: 93L.064 | E17: 0.83333332 | F17: 5 | G17: NS | H17: S6 | I17: ='Table 6 Non Fish Bearing'!P12 -> Cascade (30 m) in Reach 2 prevents upstream fish migration to this reach. Two (2) sample sites upstream of the cascade confirms the absence of a resident fish population.
A18: 17 | B18: 12397 | C18: 1 | D18: 93L.064 | E18: 1.5 | F18: 4.5 | G18: NS | H18: S3 | I18: ='Table 5 Fish Bearing Reaches'!I12 -> No barriers to upstream fish migration were identified. Fish access may be possible from downstream fish bearing water.
A19: 18 | B19: 12397 | C19: 3 | D19: 93L.064 | E19: 1.1666667 | F19: 6.5 | G19: NFC | H19: S6 | I19: ='Table 6 Non Fish Bearing'!P13 -> Second pass sampling confirms non fish bearing status. Numerous obstructions (sediment wedges, debris jams and isolated pools) combined with inadequate flow prevents fish access to this reach.
A20: 19 | B20: 12402 | C20: 2 | D20: 93L.064 | E20: 1.65 | F20: 7 | G20: NFC | H20: S6 | I20: ='Table 6 Non Fish Bearing'!P14 -> Second pass sampling confirms non fish bearing status. Gradient (map interpretation of 24%) in Reach 1 prevents fish access to this reach.
A21: 20 | B21: 11284 | C21: 1 | D21: 93L.053 | E21: 8.45 | F21: 26.5 | G21: NFC | H21: S5 | I21: ='Table 6 Non Fish Bearing'!P15 -> High gradient and numerous barriers (cascades 1/1 m, 3/3 m and falls 1 m) block upstream fish migration. Two (2) sample sites upstream of the obstructions confirms the non fish bearing status of this reach.
A22: 21 | B22: 11324 | C22: 1 | D22: 93L.053 | E22: 9.8333333 | F22: 4.25 | G22: NFC | H22: S2/S5 | I22: ='Table 6 Non Fish Bearing'!P16 -> Falls (20 m) blocks upstream fish migration. Six (6) sample sites upstream of the barrier confirms the absence of a resident fish population. Fish bearing below the falls based on access.
A23: 22 | B23: 12133 | C23: 1 | D23: 93L.054 | E23: NA | F23: 2.5 | G23: NS | H23: NVC | I23: ='Table 6 Non Fish Bearing'!P17 -> No visible channel. Area does not convey flow. No potential fish habitat.
A24: 23 | B24: 460-422700-34200 | C24: 2 | D24: 93L.054 | E24: 3.2833333 | F24: 6.75 | G24: DV | H24: S3 | I24: Low spawning and rearing potential. No overwintering habitat.
A25: 24 | B25: 460-422700-34200 | C25: 3 | D25: 93L.054 | E25: 1.5 | F25: 6.5 | G25: NFC | H25: S3 | I25: ='Table 5 Fish Bearing Reaches'!I15 -> Perched culvert downstream blocks upstream fish access to this reach. No permanent barriers to upstream fish migration were identified.
A26: 25 | B26: 12181 | C26: 1 | D26: 93L.054 | E26: 4.5333333 | F26: 24 | G26: NFC | H26: S5 | I26: ='Table 6 Non Fish Bearing'!P18 -> Gradient (>20%) combined with falls (1 m) and cascades (1/1 m) prevent upstream fish migration to this reach.
A27: 26 | B27: 12234 | C27: 2 | D27: 93L.054 | E27: 1.1 | F27: 6.25 | G27: NFC | H27: S6 | I27: ='Table 6 Non Fish Bearing'!P19 -> High gradient (27%) in Reach 1 blocks upsream fish migration. Two (2) sample sites upstream of the gradient section confirms that a resident fish population does not exist above the barrier.
A28: 27 | B28: 13134 | C28: 1 | D28: 93L.055 | E28: 2.4833333 | F28: 9.5 | G28: DV | H28: S3/S6 | I28: Low spawning and rearing potential. Overwintering habitat limited by flows, pools, and access. An 8 m falls in the upper portion of the reach prevent usptream fish migration.
A29: 28 | B29: 13134 | C29: 2 | D29: 93L.055 | E29: 2.2 | F29: 6 | G29: NFC | H29: S6 | I29: ='Table 6 Non Fish Bearing'!P21 -> Falls (8 m) in Reach 1 prevents upstream fish migration. Five (5) sample sites upstream of the falls confirm fish absence.
A30: 29 | B30: 13135 | C30: 1 | D30: 93L.055 | E30: NA | F30: NA | G30: NFC | H30: NA | I30: Fish sampling only.
A31: 30 | B31: 13109 | C31: 1 | D31: 93L.055 | E31: 1.35 | F31: 8 | G31: DV | H31: S4/S6 | I31: Low spawning and rearing potential. No overwintering habitat.
A32: 31 | B32: 460-422700-09600-48500 | C32: 5 | D32: 93L.055 | E32: 9.1833332 | F32: 7.75 | G32: DV | H32: S2/S5 | I32: ='Table 6 Non Fish Bearing'!P23 -> Moderate spawning, rearing and overwintering habitat. Cascade (20/20 m) in the upper portion of reach blocks upstream fish migration. Seven (7) sample sites upstream of the cascade confirms the absence of a resident fish population.
A33: 32 | B33: 460-422700-09600-48500 | C33: 6 | D33: 93L.055 | E33: 5.4666667 | F33: 6.5 | G33: NFC | H33: S5 | I33: ='Table 6 Non Fish Bearing'!P24 -> Cascade (20/20 m) in the upper portion of Reach 5 blocks upstream fish migration. Seven (7) sample sites upstream of the cascade confirms the absence of a resident fish population upstream of the barrier.
A34: 33 | B34: 460-422700-09600-48500 | C34: 7 | D34: 93L.055 | E34: NA | F34: NA | G34: NFC | H34: NA | I34: Fish sampling only.
A35: 34 | B35: 13432 | C35: 3 | D35: 93L.065 | E35: NA | F35: NA | G35: NFC | H35: NA | I35: Fish sampling only.
A36: 35 | B36: 13433 | C36: 1 | D36: 93L.065 | E36: 1.1666667 | F36: 3.5 | G36: NS | H36: S6 | I36: ='Table 6 Non Fish Bearing'!P25 -> Cascade (2.3/1 m) in Reach 1 of downstream ILP (13432) prevents upstream fish migration. Eight (8) sample sites upstream of the cascade confirm the absence of a resident fish population.
A37: 36 | B37: 13432 | C37: 2 | D37: 93L.065 | E37: NA | F37: NA | G37: NFC | H37: NA | I37: Fish sampling only.
A38: 37 | B38: 12368 | C38: 2 | D38: 93L.054 | E38: NA | F38: NA | G38: NFC | H38: NA | I38: Fish sampling only.
A39: 101 | B39: 460-422700-54400 | C39: 3 | D39: 93L.062 | E39: 11.683333 | F39: 3.125 | G39: NFC | H39: S5 | I39: ='Table 6 Non Fish Bearing'!P26 -> Falls (12 m) in Reach 2 prevents upstream fish migration. Seven (7) sample sites upstream of the falls confirms the absence of a resident population upstream of the barrier.
A40: 102 | B40: 11670 | C40: 3 | D40: 93L.063 | E40: 8.4166666 | F40: 9.75 | G40: NFC | H40: S5 | I40: ='Table 6 Non Fish Bearing'!P27 -> Falls (4 m) prevent upstream fish migration. Three (3) sample sites upstream of the falls confirms that a resident fish populations is not present upstream of the barrier.
A41: 103 | B41: 11670 | C41: 4 | D41: 93L.063 | E41: 7.6833335 | F41: 6.75 | G41: NFC | H41: S5 | I41: ='Table 6 Non Fish Bearing'!P28 -> Falls (4 m) in Reach 3 prevent upstream fish migration. Three (3) sample sites upstream of the falls confirms that a resident fish population is not present upstream of the barrier.
A42: 104 | B42: 460-422700-59600 | C42: 2 | D42: 93L.053 | E42: 8.2 | F42: 5.25 | G42: NFC | H42: S2/S5 | I42: An 8 m falls prevents upstream fish migration. A total of 8 sample sites upstream of the falls confirms the absence of a resident fish population.
A43: 105 | B43: 11226 | C43: 1 | D43: 93L.053 | E43: 7.3166668 | F43: 3.75 | G43: NFC | H43: S5 | I43: ='Table 6 Non Fish Bearing'!P30 -> Falls (8 m) in Reach 2 of WSC 460-422700-59600 prevents upstream fish migration to this stream. Eight (8) sample sites upstream of the falls confirms the absence of a resident fish population.
A44: 106 | B44: 460-422700-59600 | C44: 5 | D44: 93L.053 | E44: 7.7666667 | F44: 3 | G44: NFC | H44: S5 | I44: ='Table 6 Non Fish Bearing'!P31 -> Falls (8 m) in Reach 2 of WSC 460-422700-59600 prevents upstream fish migration to this stream. Eight (8) sample sites upstream of the falls confirms the absence of a resident fish population.
A45: 107 | B45: 460-422700-59600 | C45: 4 | D45: 93L.053 | E45: 17.8 | F45: 2.25 | G45: NFC | H45: S5 | I45: ='Table 6 Non Fish Bearing'!P32 -> Falls (8 m) in Reach 2 of WSC 460-422700-59600 prevents upstream fish migration to this stream. Eight (8) sample sites upstream of the falls confirms the absence of a resident fish population.
A46: 108 | B46: 11657 | C46: 3 | D46: 93L.063 | E46: 1.2383333 | F46: 1.625 | G46: BT | H46: S4 | I46: Moderate rearing and spawning habitat. No overwintering habitat observed.
A47: 109 | B47: 11651 | C47: 4 | D47: 93L.063 | E47: 2.5333333 | F47: 3.75 | G47: NFC | H47: S3* | I47: Potential fish access during high water.
A48: 110 | B48: 11651 | C48: 3 | D48: 93L.063 | E48: 2.3 | F48: 1.625 | G48: BT | H48: S3 | I48: ='Table 5 Fish Bearing Reaches'!I22 -> High quality rearing and spawning habitat. Overwintering habitat present in upstream pond.
A49: 111 | B49: 11505 | C49: 1 | D49: 93L.063 | E49: 1.83 | F49: 1.625 | G49: DV | H49: S3 | I49: Moderate rearing habitat. Poor spawning habitat. No overwintering habitat.
A50: 112 | B50: 11505 | C50: 2 | D50: 93L.063 | E50: 1.6266666 | F50: 3.25 | G50: DV | H50: S3 | I50: Moderate rearing habitat. Poor spawning habitat. No overwintering habitat.
A51: 113 | B51: 11509 | C51: 1 | D51: 93L.063 | E51: NA | F51: 0.875 | G51: NS | H51: NVC | I51: ='Table 6 Non Fish Bearing'!P33 -> No potential fish habitat. Wetland is not channelized and there is no surface or subsurface connectivity between isolated pockets of water.
A52: 114 | B52: 12424 | C52: 1 | D52: 93L.064 | E52: 3.6333333 | F52: 4 | G52: DV | H52: S3 | I52: ='Table 5 Fish Bearing Reaches'!I25 -> Moderate rearing and spawning habitat. Overwintering habitat was not identified.
A53: 115 | B53: 12521 | C53: 1 | D53: 93L.064 | E53: 1.585 | F53: 1.375 | G53: DV | H53: S3 | I53: Poor rearing and spawning habitat. No overwintering habitat.
A54: 116 | B54: 12521 | C54: 2 | D54: 93L.064 | E54: 1.6283334 | F54: 24.5 | G54: NS | H54: S6 | I54: ='Table 6 Non Fish Bearing'!P34 -> High gradient (24.5%) prevents fish access to this reach. Reach 3 is classified as NVC.
A55: 117 | B55: 12522 | C55: 1 | D55: 93L.064 | E55: 1.5066667 | F55: 6.75 | G55: DV | H55: S3/S6 | I55: ='Table 6 Non Fish Bearing'!P35 -> Poor rearing and spawning habitat. No overwintering habitat. The average gradient increases to (20%) upstream of the confluence with ILP 12523. Gradient is a barrier to upstream fish migration.
A56: 118 | B56: 12518 | C56: 1 | D56: 93L.064 | E56: 2.6833333 | F56: 5.25 | G56: DV | H56: S3 | I56: Moderate rearing habitat. Poor spawning habitat. No overwintering habitat observed.
A57: 119 | B57: 12518 | C57: 2 | D57: 93L.064 | E57: 1.1816667 | F57: 3.25 | G57: NFC | H57: S4* | I57: No barriers to upstream fish migration were identified. Fish access is possible from downstream fish bearing water.
A58: 120 | B58: 12514 | C58: 2 | D58: 93L.064 | E58: 1.5766667 | F58: 2.5 | G58: NFC | H58: S6 | I58: ='Table 6 Non Fish Bearing'!P36 -> Falls (10 m) in Reach 1 prevent upstream fish migration. Four (4) sample sites upstream of the falls confirms non fish bearing status.
A59: 121 | B59: 12514 | C59: 1 | D59: 93L.064 | E59: 2.95 | F59: 6.25 | G59: DV | H59: S3 | I59: Moderate rearing habitat. Poor spawning habitat. No overwintering habitat observed.
A60: 122 | B60: 11529 | C60: 3 | D60: 93L.053 | E60: 4.4833333 | F60: 8 | G60: DV | H60: S3 | I60: Moderate rearing habitat. Poor spawning habitat. No overwintering habitat observed.
A61: 123 | B61: 11276 | C61: 1 | D61: 93L.053 | E61: 1.7983333 | F61: 7 | G61: NS | H61: S3* | I61: No barriers to upstream fish migration were identified. Fish access is possible from downstream fish bearing water.
A62: 124 | B62: 11276 | C62: 2 | D62: 93L.053 | E62: 2.0166667 | F62: 12.75 | G62: NS | H62: S3* | I62: No barriers to upstream fish migration were identified. Fish access is possible from downstream fish bearing water.
A63: 125 | B63: 11532 | C63: 2 | D63: 93L.053 | E63: 5.3666666 | F63: 6 | G63: DV | H63: S2 | I63: Moderate rearing habitat. Poor spawning habitat. Overwintering habitat present.
A64: 126 | B64: 11532 | C64: 3 | D64: 93L.053 | E64: 5.05 | F64: 10.5 | G64: DV | H64: S2 | I64: Moderate rearing habitat. Poor spawning habitat. Overwintering habitat present.
A65: 127 | B65: 12137 | C65: 1 | D65: 93L.054 | E65: 3.0666667 | F65: 19.25 | G65: RB | H65: S3/S5 | I65: ='Table 6 Non Fish Bearing'!P37 -> Poor rearing and spawning habitat. No overwintering habitat present. The gradient increases to 30% for 30 m and 45% for 30 m. No fish were captured above the increased gradient section.
A66: 128 | B66: 12137 | C66: 2 | D66: 93L.054 | E66: 3.0666667 | F66: 4.5 | G66: NFC | H66: S5 | I66: ='Table 6 Non Fish Bearing'!P38 -> Gradient (30% for 30 m and 45% for 30 m) in Reach 1 prevents upstream fish migration. Second pass sampling along with 4 sample sites above the high gradient section confirms non fish bearing status.
A67: 129 | B67: 12155 | C67: 1 | D67: 93L.054 | E67: 4.8333333 | F67: 6.25 | G67: NFC | H67: S5 | I67: ='Table 6 Non Fish Bearing'!P39 -> Cascade (4 m) blocks upstream fish migration. Four (4) sample sites upstream of the cascade confirms non fish bearing status.
A68: 130 | B68: 12155 | C68: 2 | D68: 93L.054 | E68: 4.75 | F68: 4.25 | G68: NFC | H68: S5 | I68: ='Table 6 Non Fish Bearing'!P40 -> Cascade (4 m) in Reach 1 blocks upstream fish migration. Four (4) sample sites upstream of the cascade confirms non fish bearing status.
A69: 131 | B69: 12181 | C69: 2 | D69: 93L.054 | E69: 0.97166666 | F69: 4.5 | G69: NFC | H69: S6 | I69: ='Table 6 Non Fish Bearing'!P41 -> Gradient (>20%) combined with falls (1 m) and cascades (1/1 m) in Reach 1 prevents upstream fish migration to this reach. Three (3) sample sites upstream of the barriers confirms non fish bearing status.
A70: 132 | B70: 12234 | C70: 1 | D70: 93L.054 | E70: 2.7666667 | F70: 27 | G70: NS | H70: S6 | I70: High gradient (27%) blocks upsream fish migration. Two sample sites upstream of the gradient confirm that a resident fish population above the gradient does not exist..
A71: 133 | B71: 13058 | C71: 1 | D71: 93L.055 | E71: 2.35 | F71: 6.25 | G71: NFC | H71: S3* | I71: ='Table 5 Fish Bearing Reaches'!I37 -> No barriers to upstream fish migration were identified. Fish access is possible from downstream fish bearing water.
A72: 134 | B72: 13058 | C72: 2 | D72: 93L.055 | E72: 2.0333333 | F72: 8.25 | G72: NFC | H72: S3*/S6 | I72: ='Table 5 Fish Bearing Reaches'!I38 -> No barriers to upstream fish migration were identified. Fish access is possible from downstream fish bearing water. Second pass sampling above the road crossing confirms fish absence from this section of the reach.
A73: 135 | B73: 13061 | C73: 2 | D73: 93L.055 | E73: 1.1416667 | F73: 6.5 | G73: NFC | H73: S4* | I73: ='Table 5 Fish Bearing Reaches'!I39 -> No barriers to upstream fish migration were identified. Potential fish access to this reach from downstream fish bearing water.
A74: 136 | B74: 13061 | C74: 1 | D74: 93L.055 | E74: 1.6116667 | F74: 14.25 | G74: DV | H74: S3 | I74: Poor rearing and spawning habitat. No overwintering habitat.
A75: 137 | B75: 460-422700-09600 | C75: 8 | D75: 93L.055 | E75: 3.0333333 | F75: 1.375 | G75: NFC | H75: S5 | I75: ='Table 6 Non Fish Bearing'!P44 -> Cascade (3.5/2 m) in Reach 6 prevents upstream fish migration to this reach. Eight (8) sample sites upstream of the cascade confirms the absence of a resident fish population.
A76: 138 | B76: 460-422700-09600 | C76: 7 | D76: 93L.055 | E76: 3.0333333 | F76: 1.375 | G76: NFC | H76: S5 | I76: ='Table 6 Non Fish Bearing'!P45 -> Cascade (3.5/2 m) in Reach 6 prevents upstream fish migration to this reach. Eight (8) sample sites upstream of the cascade confirms the absence of a resident fish population.
A77: 140 | B77: 13439 | C77: 2 | D77: 93L.065 | E77: 0.77166667 | F77: 3.5 | G77: NS | H77: S6 | I77: ='Table 6 Non Fish Bearing'!P46 -> Gradient (25%) in Reach 1 prevents upstream fish migration to this reach. No perennial habitat present upstream of the high gradient section.
A78: 141 | B78: 13439 | C78: 1 | D78: 93L.065 | E78: 0.85 | F78: 25.75 | G78: NS | H78: S6 | I78: ='Table 6 Non Fish Bearing'!P4 -> Falls (12 m) prevent upstream fish migration. Seven (7) sample sites upstream of the falls confirms that no resident fish are present. Dolly Varden were captured downstream of the barrier.
A79: 143 | B79: 13432 | C79: 1 | D79: 93L.065 | E79: 3.0833333 | F79: 13 | G79: RB | H79: S3/S5 | I79: ='Table 5 Fish Bearing Reaches'!I41 -> Poor rearing and spawning habitat. No overwintering habitat. Cascade blocks upstream fish migration.
A80: 144 | B80: 12455 | C80: 2 | D80: 93L.064 | E80: 1.5483333 | F80: 8.75 | G80: NFC | H80: S3* | I80: ='Table 5 Fish Bearing Reaches'!I42 -> No barriers to upstream fish migration were identified.
A81: 145 | B81: 11672 | C81: 1 | D81: 93L.063 | E81: 2.3 | F81: 7.5 | G81: DV | H81: S3/S6 | I81: ='Table 6 Non Fish Bearing'!P49 -> Cascade (7/15 m) prevents upstream fish migration. Dolly Varden were captured downstream of the cascade. No fish were captured upstream of the cascade with adequate sampling (one additional sample site).
A82: 146 | B82: 11671 | C82: 2 | D82: 93L.063 | E82: 1.4966667 | F82: 5.5 | G82: NFC | H82: S3*/S6 | I82: ='Table 6 Non Fish Bearing'!P50 -> Cascade (3/1 m) prevents upstream fish migration. No fish were captured upstream of the cascade with adequate sampling effort (100 m and 131 seconds of effort).
A83: 147 | B83: 11672 | C83: 2 | D83: 93L.063 | E83: NA | F83: NA | G83: NFC | H83: NA | I83: Fish sampling only.
A84: 148 | B84: 12377 | C84: 2 | D84: 93L.064 | E84: 1.4933333 | F84: 5.25 | G84: NFC | H84: S4*/S6 | I84: ='Table 6 Non Fish Bearing'!P51 -> Bedrock cascade (4/8 m) prevents upstream fish migration. No fish were captured upstream of the cascade with adequate sampling effort (one additional site, plus 376 sec over 250 m).
A85: 149 | B85: 12245 | C85: 1 | D85: 93L.054 | E85: 1.735 | F85: 9.5 | G85: DV | H85: S3 | I85: Moderate rearing habitat. Poor spawning habitat. No overwintering habitat observed.
A86: 150 | B86: 12246 | C86: 1 | D86: 93L.054 | E86: 1.7483333 | F86: 11.5 | G86: DV | H86: S3 | I86: ='Table 5 Fish Bearing Reaches'!I47 -> Moderate rearing habitat. Poor spawning habitat. No overwintering habitat.
A87: 151 | B87: 12132 | C87: 3 | D87: 93L.054 | E87: 1.4316667 | F87: 5.25 | G87: NFC | H87: NVC/S6 | I87: ='Table 6 Non Fish Bearing'!P52 -> The lower portion of this reach is a vegetated seepage with no definable channel (NVC). A poorly defined channel exists upstream of the seepage. No fish were captured with adequate sampling effort. This reach is classifed as non fish bearing.
A88: BT: bull trout, DV: Dolly Varden, NA: not applicable, NFC: no fish caught, NS: not sampled, NVC: non visible channel,
A89: RB: rainbow trout, *: inferred data
